BEGIN:VCALENDAR
VERSION:2.0
PRODID:-//South East Queensland Polo Club - ECPv5.0.0.2//NONSGML v1.0//EN
CALSCALE:GREGORIAN
METHOD:PUBLISH
X-WR-CALNAME:South East Queensland Polo Club
X-ORIGINAL-URL:https://www.seqpoloclub.com.au
X-WR-CALDESC:Events for South East Queensland Polo Club
BEGIN:VTIMEZONE
TZID:Europe/Paris
BEGIN:DAYLIGHT
TZOFFSETFROM:+0100
TZOFFSETTO:+0200
TZNAME:CEST
DTSTART:20200329T010000
END:DAYLIGHT
BEGIN:STANDARD
TZOFFSETFROM:+0200
TZOFFSETTO:+0100
TZNAME:CET
DTSTART:20201025T010000
END:STANDARD
END:VTIMEZONE
BEGIN:VEVENT
DTSTART;VALUE=DATE:20200606
DTEND;VALUE=DATE:20200607
DTSTAMP:20200302T042027
CREATED:20200210T050445Z
LAST-MODIFIED:20200212T014254Z
UID:871-1591401600-1591487999@www.seqpoloclub.com.au
SUMMARY:Sandstone Point Polo - Polo by the Bay
DESCRIPTION: \n
URL:https://www.seqpoloclub.com.au/event/sandstone-point-polo-polo-by-the-bay/
END:VEVENT
END:VCALENDAR